BEGIN:VCALENDAR
VERSION:2.0
PRODID:-//Segelcrew Mühlviertel - ECPv5.16.1.1//NONSGML v1.0//EN
CALSCALE:GREGORIAN
METHOD:PUBLISH
X-WR-CALNAME:Segelcrew Mühlviertel
X-ORIGINAL-URL:https://segelcrew.cc
X-WR-CALDESC:Events for Segelcrew Mühlviertel
REFRESH-INTERVAL;VALUE=DURATION:PT1H
X-Robots-Tag:noindex
X-PUBLISHED-TTL:PT1H
BEGIN:VTIMEZONE
TZID:Europe/Vienna
BEGIN:DAYLIGHT
TZOFFSETFROM:+0100
TZOFFSETTO:+0200
TZNAME:CEST
DTSTART:20260329T010000
END:DAYLIGHT
BEGIN:STANDARD
TZOFFSETFROM:+0200
TZOFFSETTO:+0100
TZNAME:CET
DTSTART:20261025T010000
END:STANDARD
END:VTIMEZONE
BEGIN:VEVENT
DTSTART;TZID=Europe/Vienna:20260318T170000
DTEND;TZID=Europe/Vienna:20260318T220000
DTSTAMP:20260423T131857
CREATED:20251009T123827Z
LAST-MODIFIED:20260304T144444Z
UID:107726-1773853200-1773871200@segelcrew.cc
SUMMARY:Crewabend März 2026
DESCRIPTION:Die Segelcrew Mühlviertel trifft sich erneut zum Crewabend. \nEs wird Theorie für den Boat Skipper B vorgetragen\, Es dient als Vorbereitungskurs für die Prüfung der angehenden Kapitäne.
URL:https://segelcrew.cc/termin/crewabend-maerz-2026/
LOCATION:Vierzehner Treff\, Prager Straße 16\, Freistadt\, Oberösterreich\, 4240\, Austria
END:VEVENT
END:VCALENDAR