BEGIN:VCALENDAR
VERSION:2.0
PRODID:-//Segelcrew Mühlviertel - ECPv5.16.1.1//NONSGML v1.0//EN
CALSCALE:GREGORIAN
METHOD:PUBLISH
X-WR-CALNAME:Segelcrew Mühlviertel
X-ORIGINAL-URL:https://segelcrew.cc
X-WR-CALDESC:Events for Segelcrew Mühlviertel
REFRESH-INTERVAL;VALUE=DURATION:PT1H
X-Robots-Tag:noindex
X-PUBLISHED-TTL:PT1H
BEGIN:VTIMEZONE
TZID:Europe/Vienna
BEGIN:DAYLIGHT
TZOFFSETFROM:+0100
TZOFFSETTO:+0200
TZNAME:CEST
DTSTART:20250330T010000
END:DAYLIGHT
BEGIN:STANDARD
TZOFFSETFROM:+0200
TZOFFSETTO:+0100
TZNAME:CET
DTSTART:20251026T010000
END:STANDARD
END:VTIMEZONE
BEGIN:VEVENT
DTSTART;TZID=Europe/Vienna:20250111T100000
DTEND;TZID=Europe/Vienna:20250111T170000
DTSTAMP:20260419T180433
CREATED:20241219T092645Z
LAST-MODIFIED:20241219T092645Z
UID:107686-1736589600-1736614800@segelcrew.cc
SUMMARY:Eistockschießen der Segelcrew Mühlviertel
DESCRIPTION:Das jährliche Eisstockschießen in Sandl ist bereits Tradition der Segelcrew. \nBei Edith & Ernst in Sandl darf es sich die Segelcrew wieder gemütlich machen. Für leibliches Wohl sorgt wie so oft Michi & Fretsch!
URL:https://segelcrew.cc/termin/eistockschiessen-der-segelcrew-muehlviertel/
END:VEVENT
END:VCALENDAR