BEGIN:VCALENDAR
VERSION:2.0
PRODID:-//Segelcrew Mühlviertel - ECPv5.16.1.1//NONSGML v1.0//EN
CALSCALE:GREGORIAN
METHOD:PUBLISH
X-WR-CALNAME:Segelcrew Mühlviertel
X-ORIGINAL-URL:https://segelcrew.cc
X-WR-CALDESC:Events for Segelcrew Mühlviertel
REFRESH-INTERVAL;VALUE=DURATION:PT1H
X-Robots-Tag:noindex
X-PUBLISHED-TTL:PT1H
BEGIN:VTIMEZONE
TZID:Europe/Vienna
BEGIN:DAYLIGHT
TZOFFSETFROM:+0100
TZOFFSETTO:+0200
TZNAME:CEST
DTSTART:20260329T010000
END:DAYLIGHT
BEGIN:STANDARD
TZOFFSETFROM:+0200
TZOFFSETTO:+0100
TZNAME:CET
DTSTART:20261025T010000
END:STANDARD
END:VTIMEZONE
BEGIN:VEVENT
DTSTART;VALUE=DATE:20260429
DTEND;VALUE=DATE:20260503
DTSTAMP:20260420T043038
CREATED:20251009T124105Z
LAST-MODIFIED:20251009T124105Z
UID:107728-1777420800-1777766399@segelcrew.cc
SUMMARY:Frühlingstörn 2026
DESCRIPTION:Die Crewmitglieder starten in die Segelsaison mit einem Frühlingstörn. \nDas Segelrevier ist in Kroatian!
URL:https://segelcrew.cc/termin/fruehlingstoern-2026/
LOCATION:Marina Mandalina\, Obala Jerka Šižgorića 1\, Šibenik\, 22000\, Croatia (Local Name: Hrvatska)
END:VEVENT
END:VCALENDAR